BEGIN:VCALENDAR
VERSION:2.0
PRODID:-//Nuriootpa Rover Football Club - ECPv6.15.20//NONSGML v1.0//EN
CALSCALE:GREGORIAN
METHOD:PUBLISH
X-WR-CALNAME:Nuriootpa Rover Football Club
X-ORIGINAL-URL:https://www.nuritigers.com.au
X-WR-CALDESC:Events for Nuriootpa Rover Football Club
REFRESH-INTERVAL;VALUE=DURATION:PT1H
X-Robots-Tag:noindex
X-PUBLISHED-TTL:PT1H
BEGIN:VTIMEZONE
TZID:Australia/Adelaide
BEGIN:STANDARD
TZOFFSETFROM:+1030
TZOFFSETTO:+0930
TZNAME:ACST
DTSTART:20250405T163000
END:STANDARD
BEGIN:DAYLIGHT
TZOFFSETFROM:+0930
TZOFFSETTO:+1030
TZNAME:ACDT
DTSTART:20251004T163000
END:DAYLIGHT
BEGIN:STANDARD
TZOFFSETFROM:+1030
TZOFFSETTO:+0930
TZNAME:ACST
DTSTART:20260404T163000
END:STANDARD
BEGIN:DAYLIGHT
TZOFFSETFROM:+0930
TZOFFSETTO:+1030
TZNAME:ACDT
DTSTART:20261003T163000
END:DAYLIGHT
BEGIN:STANDARD
TZOFFSETFROM:+1030
TZOFFSETTO:+0930
TZNAME:ACST
DTSTART:20270403T163000
END:STANDARD
BEGIN:DAYLIGHT
TZOFFSETFROM:+0930
TZOFFSETTO:+1030
TZNAME:ACDT
DTSTART:20271002T163000
END:DAYLIGHT
END:VTIMEZONE
BEGIN:VEVENT
DTSTART;VALUE=DATE:20260425
DTEND;VALUE=DATE:20260426
DTSTAMP:20260423T175110
CREATED:20260402T013357Z
LAST-MODIFIED:20260402T013357Z
UID:836-1777075200-1777161599@www.nuritigers.com.au
SUMMARY:Rd 2 - Angaston v Nuriootpa (ANZAC RD)
DESCRIPTION:
URL:https://www.nuritigers.com.au/event/rd-2-angaston-v-nuriootpa-anzac-rd/
LOCATION:Angaston Oval
CATEGORIES:Match Fixture
END:VEVENT
END:VCALENDAR